BEGIN:VCALENDAR
VERSION:2.0
PRODID:-//Vista Ridge Recreational Association - ECPv6.15.20//NONSGML v1.0//EN
CALSCALE:GREGORIAN
METHOD:PUBLISH
X-WR-CALNAME:Vista Ridge Recreational Association
X-ORIGINAL-URL:https://vistaridge.ab.ca
X-WR-CALDESC:Events for Vista Ridge Recreational Association
REFRESH-INTERVAL;VALUE=DURATION:PT1H
X-Robots-Tag:noindex
X-PUBLISHED-TTL:PT1H
BEGIN:VTIMEZONE
TZID:America/Edmonton
BEGIN:DAYLIGHT
TZOFFSETFROM:-0700
TZOFFSETTO:-0600
TZNAME:MDT
DTSTART:20250309T090000
END:DAYLIGHT
BEGIN:STANDARD
TZOFFSETFROM:-0600
TZOFFSETTO:-0700
TZNAME:MST
DTSTART:20251102T080000
END:STANDARD
BEGIN:DAYLIGHT
TZOFFSETFROM:-0700
TZOFFSETTO:-0600
TZNAME:MDT
DTSTART:20260308T090000
END:DAYLIGHT
BEGIN:STANDARD
TZOFFSETFROM:-0600
TZOFFSETTO:-0700
TZNAME:MST
DTSTART:20261101T080000
END:STANDARD
BEGIN:DAYLIGHT
TZOFFSETFROM:-0700
TZOFFSETTO:-0600
TZNAME:MDT
DTSTART:20270314T090000
END:DAYLIGHT
BEGIN:STANDARD
TZOFFSETFROM:-0600
TZOFFSETTO:-0700
TZNAME:MST
DTSTART:20271107T080000
END:STANDARD
END:VTIMEZONE
BEGIN:VEVENT
DTSTART;TZID=America/Edmonton:20260920T130000
DTEND;TZID=America/Edmonton:20260920T190000
DTSTAMP:20260422T022455
CREATED:20260311T012039Z
LAST-MODIFIED:20260311T012039Z
UID:808-1789909200-1789930800@vistaridge.ab.ca
SUMMARY:Superintendents’ Revenge Tournament
DESCRIPTION:Get ready for the most ridiculous round of golf you’ll play all year. The Superintendents’ Revenge Tournament is back at Vista Ridge in Fort McMurray on Sunday\, September 20\, 2026. Expect a course full of surprises\, wild obstacles\, and plenty of laughs.\n\nYour $80 + GST registration includes 12 holes of golf\, a cart\, hot dog or hamburger with chips\, and an event T-shirt. Prizes will be awarded for Lowest Score\, Most Honest Score\, and Funniest Dressed Team\, plus fun charity challenges throughout the day.\n\nSign up by September 13.\n\nRegister through ev****@***********ab.ca
URL:https://vistaridge.ab.ca/event/superintendents-revenge-tournament/
LOCATION:Alberta
CATEGORIES:Activities
END:VEVENT
END:VCALENDAR